BEGIN:VCALENDAR
VERSION:2.0
PRODID:-//Enterprise Europe Network - Nederland - ECPv6.15.20//NONSGML v1.0//EN
CALSCALE:GREGORIAN
METHOD:PUBLISH
X-WR-CALNAME:Enterprise Europe Network - Nederland
X-ORIGINAL-URL:https://www.eennl.eu
X-WR-CALDESC:Events for Enterprise Europe Network - Nederland
REFRESH-INTERVAL;VALUE=DURATION:PT1H
X-Robots-Tag:noindex
X-PUBLISHED-TTL:PT1H
BEGIN:VTIMEZONE
TZID:Europe/Paris
BEGIN:DAYLIGHT
TZOFFSETFROM:+0100
TZOFFSETTO:+0200
TZNAME:CEST
DTSTART:20250330T010000
END:DAYLIGHT
BEGIN:STANDARD
TZOFFSETFROM:+0200
TZOFFSETTO:+0100
TZNAME:CET
DTSTART:20251026T010000
END:STANDARD
BEGIN:DAYLIGHT
TZOFFSETFROM:+0100
TZOFFSETTO:+0200
TZNAME:CEST
DTSTART:20260329T010000
END:DAYLIGHT
BEGIN:STANDARD
TZOFFSETFROM:+0200
TZOFFSETTO:+0100
TZNAME:CET
DTSTART:20261025T010000
END:STANDARD
BEGIN:DAYLIGHT
TZOFFSETFROM:+0100
TZOFFSETTO:+0200
TZNAME:CEST
DTSTART:20270328T010000
END:DAYLIGHT
BEGIN:STANDARD
TZOFFSETFROM:+0200
TZOFFSETTO:+0100
TZNAME:CET
DTSTART:20271031T010000
END:STANDARD
END:VTIMEZONE
BEGIN:VEVENT
DTSTART;TZID=Europe/Paris:20260520T080000
DTEND;TZID=Europe/Paris:20260521T170000
DTSTAMP:20260424T061438
CREATED:20260129T141114Z
LAST-MODIFIED:20260319T091517Z
UID:8571-1779264000-1779382800@www.eennl.eu
SUMMARY:Food Tech Event
DESCRIPTION:Het Food Tech Event 2026 brengt technologie\, innovatie en voedselproductie samen. Dit toonaangevende vakbeurs- en kennisplatform vindt plaats op 20 en 21 mei 2026 in de Brabanthallen in ’s-Hertogenbosch en is dé ontmoetingsplek voor professionals uit de food- en beveragesector. \nHet event biedt een unieke gelegenheid om de nieuwste technologische oplossingen te ontdekken\, inspiratie op te doen en waardevolle connecties te leggen met experts\, leveranciers\, producenten\, onderzoekers en innovatieve bedrijven. \nWat kun je verwachten?\nHet Food Tech Event is de one-stop-shop vakbeurs voor voedselproductie en -verwerking\, waar je alles vindt wat je nodig hebt om jouw productieprocessen te optimaliseren – van grondstof tot eindproduct. \nProgramma & activiteiten\nBeursvloer en exposanten\nOntdek meer dan 130 exposanten met innovatieve oplossingen en technologieën voor de food- en beverage-industrie. Je komt in contact met bedrijven\, organisaties en kennisinstellingen die zich richten op onder andere: \n\nProductieapparatuur & automatisering\nKwaliteitscontrole & hygiëne\nVerpakken & etikettering\nDigitalisering & software\nKlimaatbeheersing & energiebeheer\nOpslag & voorraadbeheer\n\nLive demo’s en innovatie-zones\nOp de beursvloer vind je demo-area’s waar je live toepassingen van machines en systemen kunt ervaren. Leer direct hoe technologie jouw processen kan versnellen en verduurzamen. \nInspiratie en kennisdeling\nIn inspiratiesessies en presentaties delen experts uit de praktijk inzichten over actuele thema’s zoals voedselveiligheid\, hygiënisch ontwerp\, automatisering en digitalisering. \nVoor wie is dit event?\nDit event is relevant voor: \n\nOndernemers\, technici\, engineers en R&D-specialisten\nInnovatiemanagers en beslissers in de food- en beveragesector\nLeveranciers van technologie\, diensten en oplossingen\nKennisinstellingen en studenten die actief zijn in voedselproductie en engineering\n\nWaarom deelnemen?\n\nOntdek technologische oplossingen: krijg direct zicht op innovaties die jouw productieprocessen verbeteren.\nNetwerk met vakgenoten: ontmoet professionals uit de hele keten van food & beverage.\nLeer van experts: krijg praktische kennis uit inspiratiesessies en live demo’s.\nVerken samenwerkingen: vind partners voor toekomstige innovatie- en technologieprojecten.\nBlijf op de hoogte: krijg inzicht in trends en ontwikkelingen in de voedingsindustrie.\n\nKennissessie food packaging georganiseerd door Enterprise Europe Network\nWij organiseren tijdens de beurs een kennissessie over food packaging met vier bedrijven uit Duitsland en Nederland\, die hun innovaties zullen pitchen. De titel van de sessie is: Hoe ontwerp je voedselverpakkingen die de houdbaarheid verlengen\, op grote schaal recyclebaar zijn èn voldoen aan de nieuwe EU-verpakkingsverordening die in 2026 van kracht wordt? \nAanmelden & deelname\nMeld je aan via de officiële registratiepagina om je toegang te verzekeren en de nieuwste updates over programmaonderdelen\, sprekers en demo’s te ontvangen.
URL:https://www.eennl.eu/event/food-tech-event/
LOCATION:Brabant Hallen\, Den Bosch\, Netherlands
CATEGORIES:Conference
ATTACH;FMTTYPE=image/jpeg:https://www.eennl.eu/wp-content/uploads/2026/01/260129-Food-Tech-Event-2025_Logo.jpg
END:VEVENT
END:VCALENDAR