BEGIN:VCALENDAR
VERSION:2.0
PRODID:-//Enterprise Europe Network - Nederland - ECPv6.15.20//NONSGML v1.0//EN
CALSCALE:GREGORIAN
METHOD:PUBLISH
X-WR-CALNAME:Enterprise Europe Network - Nederland
X-ORIGINAL-URL:https://www.eennl.eu
X-WR-CALDESC:Events for Enterprise Europe Network - Nederland
REFRESH-INTERVAL;VALUE=DURATION:PT1H
X-Robots-Tag:noindex
X-PUBLISHED-TTL:PT1H
BEGIN:VTIMEZONE
TZID:Europe/Paris
BEGIN:DAYLIGHT
TZOFFSETFROM:+0100
TZOFFSETTO:+0200
TZNAME:CEST
DTSTART:20230326T010000
END:DAYLIGHT
BEGIN:STANDARD
TZOFFSETFROM:+0200
TZOFFSETTO:+0100
TZNAME:CET
DTSTART:20231029T010000
END:STANDARD
BEGIN:DAYLIGHT
TZOFFSETFROM:+0100
TZOFFSETTO:+0200
TZNAME:CEST
DTSTART:20240331T010000
END:DAYLIGHT
BEGIN:STANDARD
TZOFFSETFROM:+0200
TZOFFSETTO:+0100
TZNAME:CET
DTSTART:20241027T010000
END:STANDARD
BEGIN:DAYLIGHT
TZOFFSETFROM:+0100
TZOFFSETTO:+0200
TZNAME:CEST
DTSTART:20250330T010000
END:DAYLIGHT
BEGIN:STANDARD
TZOFFSETFROM:+0200
TZOFFSETTO:+0100
TZNAME:CET
DTSTART:20251026T010000
END:STANDARD
BEGIN:DAYLIGHT
TZOFFSETFROM:+0100
TZOFFSETTO:+0200
TZNAME:CEST
DTSTART:20260329T010000
END:DAYLIGHT
BEGIN:STANDARD
TZOFFSETFROM:+0200
TZOFFSETTO:+0100
TZNAME:CET
DTSTART:20261025T010000
END:STANDARD
END:VTIMEZONE
BEGIN:VEVENT
DTSTART;TZID=Europe/Paris:20250915T160000
DTEND;TZID=Europe/Paris:20250915T193000
DTSTAMP:20260419T164616
CREATED:20250730T095050Z
LAST-MODIFIED:20250730T095050Z
UID:7969-1757952000-1757964600@www.eennl.eu
SUMMARY:Workshop AI Ideation | EDIH Digital Hub Noordwest & EEN NL
DESCRIPTION:In samenwerking met de EDIH Digital Hub Noordwest organiseren we de workshop AI Ideation bij de Hogeschool Utrecht op maandag 15 september. Verzamel je ideeën\, ontwikkel ze en werk één van je eigen uit. Tijdens de workshop ga je jouw idee voor AI in je bedrijf uitwerken met de hulp van experts. Na een introductie van wat AI inhoud en een aantal voorbeelden\, ga je aan de slag met ideeën verkennen\, testen en uitwerken. Dit vormt een mooie basis om vervolgens uit te bouwen tot nieuwe mogelijkheden. \nWat kan je met AI binnen jouw bedrijf?\nAI kan vele toepassingen hebben dat een bijdrage kan leveren aan bedrijven. In de workshop wordt het zakelijk én dataperspectief verkend of AI iets voor jou is. Bijvoorbeeld om het grootste deel van de binnenkomende e-mails aan jouw klantenservice automatisch af te handelen. Of om te voorspellen wanneer machines preventief onderhoud nodig hebben\, zodat je als ondernemer niet voor onverwachte verrassingen komt te staan. Benieuwd naar de ervaring van eerdere deelnemers? Paul Thuijs van Claassen\, Moolenbeek & Partners deelt zijn ervaring. \nWat ga je doen in de workshop?\nLeer meer over wat AI is en wat de basisprincipes zijn. Naast dat je een beter begrip krijgt over wat achter de term ‘Artificial Intelligence’ zit\, krijg je ook een aantal concrete voorbeelden van de toepassing van AI in andere bedrijven. Met deze kennis ga je brainstormen waar je AI kan inzetten in jouw bedrijf en welke bedrijfsprocessen het meeste kunnen profiteren van AI. Je selecteert je beste idee op basis van haalbaarheid\, impact en toegevoegde waarde en werkt het uit tot een uitvoerbaar plan. Dit doe je onder begeleiding van Mark Scholten en zijn collega’s die persoonlijk met je meedenken en je vragen beantwoorden. \nWat levert het op?\nNa afloop van de workshop heb je een praktisch uitvoerbaar plan. We helpen je graag verder binnen de Digital Hub Noordwest. Zo kun je aan de slag in andere workshops\, op testlocaties\, in projecten met studenten van de HU met begeleiding van docenten of bij mkb-organisaties gespecialiseerd in AI. \nVoor wie is de workshop geschikt?\nDe workshop is geschikt voor mkb-bedrijven die leergierig zijn en geïnteresseerd zijn in het toepassen van AI in hun eigen bedrijf. Je hoeft geen voorkennis te hebben over AI of ICT waardoor het voor iedereen toegankelijk is. Bedrijven met 10 werknemers of bedrijven met een uitgebreidere organisatie\, iedereen is welkom. \nWanneer en waar?\n\nDatum: maandag 15 september 2025\nTijd: 16:00 tot 19:30\nWaar: Hogeschool Utrecht op het Utrecht Science Park (Heidelberglaan 15)\nAantal plekken: Er kunnen maximaal 12 bedrijven meedoen in de workshop\nAantal deelnemers per bedrijf: 1 of 2 personen\nKosten: Deelnemen aan de workshop is kosteloos doordat het onder het EDIH programma valt en gebruik maakt van de staatsteun van je bedrijf\nCatering: Tijdens de workshop worden broodjes verzorgt\n\n  \nAanmelden\nJe kan je aanmelden via de website van de EDIH Digital Hub Noordwest.
URL:https://www.eennl.eu/event/workshop-ai-ideation-edih-digital-hub-noordwest-een-nl/
LOCATION:Utrecht
CATEGORIES:Training
ATTACH;FMTTYPE=image/jpeg:https://www.eennl.eu/wp-content/uploads/2024/06/ESC_2980-scaled.jpg
ORGANIZER;CN="EDIH Digital Hub Noordwest":MAILTO:info@edih-dhnw.nl
END:VEVENT
BEGIN:VEVENT
DTSTART;VALUE=DATE:20250313
DTEND;VALUE=DATE:20250314
DTSTAMP:20260419T164616
CREATED:20250123T101854Z
LAST-MODIFIED:20250123T101854Z
UID:7580-1741824000-1741910399@www.eennl.eu
SUMMARY:"Get Ready for Japan" training programme | Application deadline: 13 March 2025
DESCRIPTION:The EU-Japan Centre\, partner of EEN is pleased to announce the first session of its training on Japanese business culture for 2025. \nThis exclusive 2-week long programme funded by the European Union helped hundreds of EU entrepreneurs succeed in Japan. “Get Ready for Japan” aims to help understand Japanese business practices and communication styles and identify opportunities for successful business partnerships. \nTraining dates:\n19-23 May 2025 – online\n9-13 June 2025 – in Tokyo\, Japan \nApplication deadline: Thursday\, 13 March 2025 \nMISSION CONTENT\n– workshops\, seminars\n– companies visits\n– tailored meetings with potential new partners \nPARTICIPANT PROFILE\n– Managers and executives\, from small and medium-sized enterprises based in the EU\n– The mission is open to any kind of sector of activity. \nSELECTION CRITERIA\n– The company’s strategy towards Japan.\n– The applicant’s professional background and position within the company.\n– The applicant’s motivation. \nIn order to ensure a high degree of personal attention\, the number of participants in the programme is limited to 14. A selection process will be held after the application deadline. \nCOSTS\n– The EU-Japan Centre will cover all the training fees: speakers\, room rental\, transportation for group activities\, interpreters and organisation of meetings.\n– The participants’ companies are expected to cover travel\, accommodation and living expenses. \nFor more information about the mission and to apply: visit the website.
URL:https://www.eennl.eu/event/get-ready-for-japan-training-programme-application-deadline-13-march-2025/
LOCATION:Utrecht
CATEGORIES:Training
ATTACH;FMTTYPE=image/webp:https://www.eennl.eu/wp-content/uploads/2023/06/tokio_japan_2400x1600.webp
END:VEVENT
BEGIN:VEVENT
DTSTART;TZID=Europe/Paris:20250127T160000
DTEND;TZID=Europe/Paris:20250127T193000
DTSTAMP:20260419T164616
CREATED:20241202T121823Z
LAST-MODIFIED:20241202T122109Z
UID:7493-1737993600-1738006200@www.eennl.eu
SUMMARY:Workshop AI Ideation
DESCRIPTION:In samenwerking met de EDIH Digital Hub Noordwest en Hogeschool Utrecht organiseren we de workshop AI Ideation bij de Hogeschool Utrecht op 27 januari. Verzamel je ideeën\, ontwikkel ze en werk één uit. Tijdens de workshop ga je jouw idee voor AI in je bedrijf uitwerken met de hulp van experts. Na een introductie van wat AI inhoud en een aantal voorbeelden\, ga je aan de slag met ideeën verkennen\, testen en uitwerken. Dit vormt een mooie basis om vervolgens uit te bouwen tot nieuwe mogelijkheden. \nWat kan je met AI binnen jouw bedrijf?\nAI kan vele toepassingen hebben dat een bijdrage kan leveren aan bedrijven. In de workshop wordt het zakelijk én dataperspectief verkend of AI iets voor jou is. Bijvoorbeeld om het grootste deel van de binnenkomende e-mails aan jouw klantenservice automatisch af te handelen. Of om te voorspellen wanneer machines preventief onderhoud nodig hebben\, zodat je als ondernemer niet voor onverwachte verrassingen komt te staan. \nBenieuwd naar de ervaring van eerdere deelnemers? Paul Thuijs van Claassen\, Moolenbeek & Partners deelt zijn ervaring. \nWat ga je doen in de workshop?\nLeer meer over wat AI is en wat de basisprincipes zijn. Naast dat je een beter begrip krijgt over wat achter de term ‘Artificial Intelligence’ zit\, krijg je ook een aantal concrete voorbeelden van de toepassing van AI in andere bedrijven. Met deze kennis ga je brainstormen waar je AI kan inzetten in jouw bedrijf en welke bedrijfsprocessen het meeste kunnen profiteren van AI. Je selecteert je beste idee op basis van haalbaarheid\, impact en toegevoegde waarde en werkt het uit tot een uitvoerbaar plan. Dit doe je onder begeleiding van Mark Scholten en Joop Snijder die persoonlijk met je meedenken en je vragen beantwoorden. \nWat levert het op?\nNa afloop van de workshop heb je een praktisch uitvoerbaar plan. We helpen je graag verder binnen de Digital Hub Noordwest. Zo kun je aan de slag in andere workshops\, op testlocaties\, in projecten met studenten van de HU met begeleiding van docenten of bij mkb-organisaties gespecialiseerd in AI. \nVoor wie is de workshop geschikt?\nDe workshop is geschikt voor mkb-bedrijven die leergierig zijn en geïnteresseerd zijn in het toepassen van AI in hun eigen bedrijf. Je hoeft geen voorkennis te hebben over AI of ICT waardoor het voor iedereen toegankelijk is. Bedrijven met 10 werknemers of bedrijven met een uitgebreidere organisatie\, iedereen is welkom. \nWanneer en waar?\n\nDatum: 27 januari 2025\nTijd: 16:00 tot 19:30\nWaar: Hogeschool Utrecht op het Utrecht Science Park\nAantal plekken: Er kunnen maximaal 12 bedrijven meedoen in de workshop\nAantal deelnemers per bedrijf: 1 of 2 personen\nKosten: Deelnemen aan de workshop is kosteloos doordat het onder het EDIH programma valt\nCatering: Tijdens de workshop worden broodjes verzorgt\n\nAanmelden\nAanmelden kan via de website van de Digital Hub Noordwest. \n   
URL:https://www.eennl.eu/event/workshop-ai-ideation-3/
LOCATION:Utrecht Science Park\, Heidelberglaan 11\, Utrecht\, Utrecht\, 3584 CS\, Netherlands
CATEGORIES:Training
ATTACH;FMTTYPE=image/jpeg:https://www.eennl.eu/wp-content/uploads/2024/12/ESC_2980_comp2000.jpg
ORGANIZER;CN="EDIH Digital Hub Noordwest":MAILTO:info@edih-dhnw.nl
END:VEVENT
BEGIN:VEVENT
DTSTART;TZID=Europe/Paris:20241021T160000
DTEND;TZID=Europe/Paris:20241021T193000
DTSTAMP:20260419T164616
CREATED:20241007T115956Z
LAST-MODIFIED:20241007T120833Z
UID:7335-1729526400-1729539000@www.eennl.eu
SUMMARY:Workshop AI Ideation
DESCRIPTION:In samenwerking met het Enterprise Europe Network en de EDIH Digitial Hub Noordwest organiseren we de workshop AI Ideation bij de Hogeschool Utrecht op 21 oktober. Verzamel je ideeën\, ontwikkel ze en werk één uit. Tijdens de workshop ga je jouw idee voor AI in je bedrijf uitwerken met de hulp van experts. Na een introductie van wat AI inhoud en een aantal voorbeelden\, ga je aan de slag met ideeën verkennen\, testen en uitwerken. Dit vormt een mooie basis om vervolgens uit te bouwen tot nieuwe mogelijkheden. \nWat kan je met AI binnen jouw bedrijf?\nAI kan vele toepassingen hebben dat een bijdrage kan leveren aan bedrijven. In de workshop wordt het zakelijk én dataperspectief verkend of AI iets voor jou is. Bijvoorbeeld om het grootste deel van de binnenkomende e-mails aan jouw klantenservice automatisch af te handelen. Of om te voorspellen wanneer machines preventief onderhoud nodig hebben\, zodat je als ondernemer niet voor onverwachte verrassingen komt te staan. Benieuwd naar de ervaring van eerdere deelnemers? Paul Thuijs van Claassen\, Moolenbeek & Partners deelt zijn ervaring. \nWat ga je doen in de workshop?\nLeer meer over wat AI is en wat de basisprincipes zijn. Naast dat je een beter begrip krijgt over wat achter de term ‘Artificial Intelligence’ zit\, krijg je ook een aantal concrete voorbeelden van de toepassing van AI in andere bedrijven. Met deze kennis ga je brainstormen waar je AI kan inzetten in jouw bedrijf en welke bedrijfsprocessen het meeste kunnen profiteren van AI. Je selecteert je beste idee op basis van haalbaarheid\, impact en toegevoegde waarde en werkt het uit tot een uitvoerbaar plan. Dit doe je onder begeleiding van Mark Scholten en Joop Snijder die persoonlijk met je meedenken en je vragen beantwoorden. \nAanmelden\nAanmelden kan via de website van de Digital Hub Noordwest.
URL:https://www.eennl.eu/event/workshop-ai-ideation-2/
LOCATION:Utrecht
CATEGORIES:Training
ATTACH;FMTTYPE=image/jpeg:https://www.eennl.eu/wp-content/uploads/2024/06/ESC_2980-scaled.jpg
END:VEVENT
BEGIN:VEVENT
DTSTART;VALUE=DATE:20240829
DTEND;VALUE=DATE:20240830
DTSTAMP:20260419T164616
CREATED:20240711T092147Z
LAST-MODIFIED:20240711T094203Z
UID:6994-1724889600-1724975999@www.eennl.eu
SUMMARY:Get ready for Japan 2024 - October / November edition
DESCRIPTION:Organized yearly since 1987\, the objective of this 2-week long programme is to help EU managers and executives to get an in-depth understanding of how to do business in Japan. \nManaged by the EU-Japan Centre and funded by the European Union\, Get Ready for Japan aims to comprehensively understand Japanese business practices and communication styles and identify opportunities for successful business partnerships. Additionally\, the programme aims to provide insights into the decision-making process within Japanese companies\, which will contribute to a better understanding of their negotiation style and hierarchy. \nFinally\, the programme intends to strengthen existing relationships with Japanese customers and establish new contacts with potential ones with tailored matchmaking support. \nTraining dates: \n\n21-25 October 2024 – online\n11-15 November 2024 – in Tokyo\, Japan\n\nApplication deadline: Thursday\, 29 August 2024 \nPARTICIPANT PROFILE \nTypical participants: \n\nmanagers and executives from small and medium-sized enterprises\nhave a major role in defining and implementing their companies’ policies regarding Japan\,\nare to be transferred to Japan\,\ncome from companies intending to supply Japanese companies\,\nwish to learn about management practices and technological developments in Japan.\n\nThe mission is open to any kind of sector of activity. \nCOSTS \n\nThe EU-Japan Centre will cover all the training fees: speakers’ fees\, room rental\, transportation arranged for group activities\, and interpreters.\nThe participants’ companies are expected to cover travel\, accommodation and living expenses.\n\nPlease note: In order to ensure a high degree of personal attention\, the number of participants in the programme is limited and therefore a selection process will be held between all the received candidatures by the deadline.
URL:https://www.eennl.eu/event/get-ready-for-japan-october-november-2024-edition/
LOCATION:Utrecht
CATEGORIES:Training
ATTACH;FMTTYPE=image/png:https://www.eennl.eu/wp-content/uploads/2024/03/GRFJ-pic.png
END:VEVENT
BEGIN:VEVENT
DTSTART;TZID=Europe/Paris:20240708T160000
DTEND;TZID=Europe/Paris:20240708T193000
DTSTAMP:20260419T164616
CREATED:20240605T081456Z
LAST-MODIFIED:20240605T081515Z
UID:6924-1720454400-1720467000@www.eennl.eu
SUMMARY:Workshop AI Ideation met de Digital Hub Noordwest
DESCRIPTION:In samenwerking met het Enterprise Europe Network organiseert de EDIH Digital Hub Noordwest de workshop AI Ideation bij de Hogeschool Utrecht op 8 juli. Verzamel je ideeën\, ontwikkel ze en werk één uit. Tijdens de workshop ga je jouw idee voor AI in je bedrijf uitwerken met de hulp van experts. Na een introductie van wat AI inhoud en een aantal voorbeelden\, ga je aan de slag met ideeën verkennen\, testen en uitwerken. Dit vormt een mooie basis om vervolgens uit te bouwen tot nieuwe mogelijkheden. \nWat kan je met AI binnen jouw bedrijf?\nAI kan vele toepassingen hebben dat een bijdrage kan leveren aan bedrijven. In de workshop wordt het zakelijk én dataperspectief verkend of AI iets voor jou is. Bijvoorbeeld om het grootste deel van de binnenkomende e-mails aan jouw klantenservice automatisch af te handelen. Of om te voorspellen wanneer machines preventief onderhoud nodig hebben\, zodat je als ondernemer niet voor onverwachte verrassingen komt te staan. Benieuwd naar de ervaring van eerdere deelnemers? Paul Thuijs van Claassen\, Moolenbeek & Partners deelt zijn ervaring. \nWat ga je doen in de workshop?\nLeer meer over wat AI is en wat de basisprincipes zijn. Naast dat je een beter begrip krijgt over wat achter de term ‘Artificial Intelligence’ zit\, krijg je ook een aantal concrete voorbeelden van de toepassing van AI in andere bedrijven. Met deze kennis ga je brainstormen waar je AI kan inzetten in jouw bedrijf en welke bedrijfsprocessen het meeste kunnen profiteren van AI. Je selecteert je beste idee op basis van haalbaarheid\, impact en toegevoegde waarde en werkt het uit tot een uitvoerbaar plan. Dit doe je onder begeleiding van Mark Scholten en Joop Snijder die persoonlijk met je meedenken en je vragen beantwoorden. \nWat levert het op?\nNa afloop van de workshop heb je een praktisch uitvoerbaar plan. We helpen je graag verder binnen de Digital Hub Noordwest. Zo kun je aan de slag in andere workshops\, op testlocaties\, in projecten met studenten van de HU met begeleiding van docenten of bij mkb-organisaties gespecialiseerd in AI. \nVoor wie is de workshop geschikt?\nDe workshop is geschikt voor mkb-bedrijven die leergierig zijn en geïnteresseerd zijn in het toepassen van AI in hun eigen bedrijf. Je hoeft geen voorkennis te hebben over AI of ICT waardoor het voor iedereen toegankelijk is. Bedrijven met 10 werknemers of bedrijven met een uitgebreidere organisatie\, iedereen is welkom. \nWanneer en waar?\n\nDatum: 8 juli 2024\nTijd: 16:00 tot 19:30\nWaar: Hogeschool Utrecht op het Utrecht Science Park\nAantal plekken: Er kunnen maximaal 12 bedrijven meedoen in de workshop\nAantal deelnemers per bedrijf: 1 of 2 personen\nKosten: Deelnemen aan de workshop is kosteloos\nCatering: Tijdens de workshop worden broodjes verzorgt\n\nAanmelden\nJe kan je aanmelden via het formulier op de website van de Digital Hub Noordwest. Na je aanmelding neemt een Digital Business Developer van de Digital Hub Noordwest contact met je op om je doelen in kaart te brengen.
URL:https://www.eennl.eu/event/workshop-ai-ideation-8-juli/
LOCATION:Utrecht Science Park\, Heidelberglaan 11\, Utrecht\, Utrecht\, 3584 CS\, Netherlands
CATEGORIES:Training
ATTACH;FMTTYPE=image/jpeg:https://www.eennl.eu/wp-content/uploads/2024/06/ESC_2980-scaled.jpg
ORGANIZER;CN="EDIH Digital Hub Noordwest":MAILTO:info@edih-dhnw.nl
END:VEVENT
BEGIN:VEVENT
DTSTART;VALUE=DATE:20240321
DTEND;VALUE=DATE:20240322
DTSTAMP:20260419T164616
CREATED:20240313T125923Z
LAST-MODIFIED:20240313T130621Z
UID:6785-1710979200-1711065599@www.eennl.eu
SUMMARY:Doing business in the United States: what you need to know about the US start-up ecosystem
DESCRIPTION:Embracing Global Markets Webinar Series\n\nThe webinar series ‘Embracing global markets’ supports European small and medium-sized enterprises and start-ups to innovate and expand in Asia\, Africa and the Americas. The webinars are hosted by experts of various European Commission services and the ‘Enterprise Europe Network’\, the world’s largest business service provider. \n\n\n\n\nWho should attend? \nThe webinar aims at European small and medium-sized enterprises (SMEs)\, start-ups (ready to scale internationally)\, beneficiaries or holders of seals of excellence of the European Innovation Council\, European clusters and cluster managers\, business advisers of the Enterprise Europe Network and other European business support organisations\, including all stakeholders of the ‘Friends of EEN’ initiative. \nLearning objectives \nThe webinar provides an overview on the legal framework and regulations when opening a start-up in the United States including: \n\nthe U.S. startup environment\, start-up communities across the US\, the fundamentals and challenges of building a startup in the U.S\nVCs and other funding options; things you should know about ‘cross-border startups’\, the U.S. landscape of funding options for early stage companies – friends and family\, incubators\, VC investors\, debt providers\, what you need to know when looking for funding and working with U.S. investors\ntax issues as they relate to incorporating and fundraising; ways to incorporate your business in the U.S. and the tax implications of investing through a C corporation\, Subsidiary\, LLC\, or a Partnership\nthe 10 key legal issues to consider when entering or operating in the US market
URL:https://www.eennl.eu/event/doing-business-in-the-united-states-what-you-need-to-know-about-the-us-start-up-ecosystem/
LOCATION:Utrecht
CATEGORIES:Training
ATTACH;FMTTYPE=image/jpeg:https://www.eennl.eu/wp-content/uploads/2024/03/US.jpg
END:VEVENT
END:VCALENDAR