BEGIN:VCALENDAR
VERSION:2.0
PRODID:-//Enterprise Europe Network - Nederland - ECPv6.15.20//NONSGML v1.0//EN
CALSCALE:GREGORIAN
METHOD:PUBLISH
X-ORIGINAL-URL:https://www.eennl.eu
X-WR-CALDESC:Events for Enterprise Europe Network - Nederland
REFRESH-INTERVAL;VALUE=DURATION:PT1H
X-Robots-Tag:noindex
X-PUBLISHED-TTL:PT1H
BEGIN:VTIMEZONE
TZID:Europe/Paris
BEGIN:DAYLIGHT
TZOFFSETFROM:+0100
TZOFFSETTO:+0200
TZNAME:CEST
DTSTART:20220327T010000
END:DAYLIGHT
BEGIN:STANDARD
TZOFFSETFROM:+0200
TZOFFSETTO:+0100
TZNAME:CET
DTSTART:20221030T010000
END:STANDARD
BEGIN:DAYLIGHT
TZOFFSETFROM:+0100
TZOFFSETTO:+0200
TZNAME:CEST
DTSTART:20230326T010000
END:DAYLIGHT
BEGIN:STANDARD
TZOFFSETFROM:+0200
TZOFFSETTO:+0100
TZNAME:CET
DTSTART:20231029T010000
END:STANDARD
BEGIN:DAYLIGHT
TZOFFSETFROM:+0100
TZOFFSETTO:+0200
TZNAME:CEST
DTSTART:20240331T010000
END:DAYLIGHT
BEGIN:STANDARD
TZOFFSETFROM:+0200
TZOFFSETTO:+0100
TZNAME:CET
DTSTART:20241027T010000
END:STANDARD
BEGIN:DAYLIGHT
TZOFFSETFROM:+0100
TZOFFSETTO:+0200
TZNAME:CEST
DTSTART:20250330T010000
END:DAYLIGHT
BEGIN:STANDARD
TZOFFSETFROM:+0200
TZOFFSETTO:+0100
TZNAME:CET
DTSTART:20251026T010000
END:STANDARD
BEGIN:DAYLIGHT
TZOFFSETFROM:+0100
TZOFFSETTO:+0200
TZNAME:CEST
DTSTART:20260329T010000
END:DAYLIGHT
BEGIN:STANDARD
TZOFFSETFROM:+0200
TZOFFSETTO:+0100
TZNAME:CET
DTSTART:20261025T010000
END:STANDARD
END:VTIMEZONE
BEGIN:VTIMEZONE
TZID:Europe/Helsinki
BEGIN:DAYLIGHT
TZOFFSETFROM:+0200
TZOFFSETTO:+0300
TZNAME:EEST
DTSTART:20210328T010000
END:DAYLIGHT
BEGIN:STANDARD
TZOFFSETFROM:+0300
TZOFFSETTO:+0200
TZNAME:EET
DTSTART:20211031T010000
END:STANDARD
BEGIN:DAYLIGHT
TZOFFSETFROM:+0200
TZOFFSETTO:+0300
TZNAME:EEST
DTSTART:20220327T010000
END:DAYLIGHT
BEGIN:STANDARD
TZOFFSETFROM:+0300
TZOFFSETTO:+0200
TZNAME:EET
DTSTART:20221030T010000
END:STANDARD
BEGIN:DAYLIGHT
TZOFFSETFROM:+0200
TZOFFSETTO:+0300
TZNAME:EEST
DTSTART:20230326T010000
END:DAYLIGHT
BEGIN:STANDARD
TZOFFSETFROM:+0300
TZOFFSETTO:+0200
TZNAME:EET
DTSTART:20231029T010000
END:STANDARD
END:VTIMEZONE
BEGIN:VEVENT
DTSTART;VALUE=DATE:20250113
DTEND;VALUE=DATE:20250114
DTSTAMP:20260423T053040
CREATED:20241126T093307Z
LAST-MODIFIED:20250123T084356Z
UID:7478-1736726400-1736812799@www.eennl.eu
SUMMARY:EU Business Hub @ Japan IT Week Spring 2025 | Deadline for application: 13 January 2025
DESCRIPTION:The EU Business Hub @ Japan IT Week Spring 2025 Business Mission\, taking place from April 21st to 25th 2025\, will provide unique business opportunities for companies especially in the digital sector. \nDeadline for application: 13 January 2025 \nIf you did not have the chance to join our EU Info day – Japan IT Week Spring 2025 you can still watch it by clicking HERE. Do not miss it if you would like to learn more about the calendar of this business mission\, the benefits for selected companies\, the application process and tips and tricks for a successful application! \nWhat is this about?\n\nThanks to EU Business Hub @ Japan IT Week Spring 2025\, 50 European SMEs in the digital sector will visit Japan and kick-start their internationalisation journey. Participants will join Japan IT Week held in Tokyo at Tokyo Big Sight (the 2024 Spring exhibition was visited by around 54\,000 participants). \nThis business mission presents a unique opportunity for European SMEs to establish valuable contacts\, exhibit their solutions at the EU pavilion\, build long-lasting relationships with Japanese enterprises and explore new business avenues together.\nTarget audience \nEuropean SMEs involved in the digital sector\, including technology/services such as: \n\nSoftware\, application development\, data\, IT operation and management\nCloud\, AI\, Business automation \nEmbedded and Edge computing \nMetaverse \nInformation security \nSales digital transformation\, marketing\, advanced e-commerce and retail\n\nOverview of the Business Mission \nThe business mission to Tokyo will last five days in total\, including three days of exhibiting\, business matchmaking and networking\, as well as sector insights and a site visit. \nThe business mission agenda is as follows: \n\nDay 1: arrival in Tokyo\, welcome and networking gathering.\nDay 2: industry intelligence\, sector briefs and site visit.\nDay 3: exhibition\, networking and business meeting at Japan IT Week\, networking reception.\nDay 4: exhibition\, networking and business meeting at Japan IT Week.\nDay 5: exhibition\, networking and business meeting at Japan IT Week\, debriefing session.\n\nServices/benefits the EU participants will be receiving \n\nBusiness matchmaking: pre-arranged in-person meetings with selected Japanese enterprises.\nMarket intelligence information including sectoral briefings providing insights on market structure and opportunities.\nCultural and linguistic support such as briefings on doing business in Japan\, and support for interpretation and translation.\nFinancial support to benefit from a menu of additional customised services co-funded by the programme (e.g. interpretation\, legal advice\, booth decoration\, etc.) – in total\, up to €1000 is covered by the programme\nHotel accommodation (Grand Nikko Tokyo Daiba) for four nights – in total\, up to €1000 for accommodation is covered by the programme.\nCoverage of the exhibition fee at Japan IT Week.\n\nKey market insights  \n\nParticipating to EU Business Hub @ Japan IT Week Spring 2025 represents a unique opportunity for European SMEs and startups because:\nThe Japan IT services market size was valued at 65 billion € in 2023 and is projected to grow at a compound annual growth rate (CAGR) of 9.8% from 2024 to 2030.\nThe country’s focus on artificial intelligence\, cyber security\, digital technology\, robotics\, and healthcare IT drives market expansion and creates key opportunities for European companies to engage with Japan’s digital transformation markets with consumer products\, services\, equipment\, etc.\nThe increasing deployment of IoT-based devices across various industries\, such as consumer electronics\, agriculture\, construction\, and military\, is also driving the growth of the IT services market in Japan.\nJapan is rapidly adopting cutting-edge technologies\, driving the widespread use of IoT devices across various industries. The country is an emerging hub for major corporations\, opening up new opportunities for European companies.\nThe Japanese government is prioritising key digital technologies and strengthening collaboration from a global perspective\, and enhancing competitiveness while ensuring safety and security in the field of AI.\n\n\nInformation \nDutch companies can also contact the EEN Netherlands contactpoint for more information. \nbryan.raghoe@rvo.nl
URL:https://www.eennl.eu/event/eu-business-hub-japan-it-week-spring-2025-deadline-for-application-13-january-2025/
CATEGORIES:Missie
ATTACH;FMTTYPE=image/jpeg:https://www.eennl.eu/wp-content/uploads/2024/11/EU-HUB-scaled.jpg
END:VEVENT
BEGIN:VEVENT
DTSTART;VALUE=DATE:20241124
DTEND;VALUE=DATE:20241125
DTSTAMP:20260423T053040
CREATED:20240923T125802Z
LAST-MODIFIED:20241003T140419Z
UID:7181-1732406400-1732492799@www.eennl.eu
SUMMARY:Space mission to Japan 2025
DESCRIPTION:The EU-Japan Centre\, partner of Enterprise Europe Network is launching a new mission targeting the aerospace sectors. \nThis mission is organised on the fringe of the ““International Space Industry Exhibition (ISIEX)” fair held in January 2025 in Tokyo\, Japan. During this 3-day fair\, selected participants will be able to exhibit in a joint booth under the EU-Japan Centre umbrella. (For more info about this fair https://biz.nikkan.co.jp/eve/isiex/ ) \nThe mission will give to 12 EU SMEs and clusters the opportunity to enter the Japanese market or further develop their ongoing activities in the country and establish technology or business partnerships and therefore increase their innovation capacity and make them more competitive on the global scale. \nMission date: 29-31 January 2025\nApplication deadline: 24 November 2024\nVenue: Tokyo\, Japan \nTARGET SECTORS\nThe mission targets EU SMEs and clusters active in the following sectors: space-related technologies for robots\, lunar exploration\, rocket development + manufacturing\, launch infrastructure\, satellite utilisation\, and other downstream space-related services. \nCOSTS\n– The EU-Japan Centre will cover participation fees to the trade fair\, and the booth operational costs.\n– The participants’ companies are expected to cover travel\, accommodation and living expenses. \nFor more information about the mission and to apply:\nhttps://www.eu-japan.eu/events/space-business-mission-japan
URL:https://www.eennl.eu/event/space-mission-to-japan-2025/
CATEGORIES:Missie
ATTACH;FMTTYPE=image/jpeg:https://www.eennl.eu/wp-content/uploads/2024/09/Space-BM-copy_0.jpg
END:VEVENT
BEGIN:VEVENT
DTSTART;VALUE=DATE:20240930
DTEND;VALUE=DATE:20241001
DTSTAMP:20260423T053040
CREATED:20240918T084614Z
LAST-MODIFIED:20240926T071902Z
UID:7169-1727654400-1727740799@www.eennl.eu
SUMMARY:EU Business Hub National Event for Dutch companies and stakeholders - Japan and the Republic of Korea programme
DESCRIPTION:The EU Business Hub will organise a national online event for Dutch companies and stakeholders on 30 September at 14:00 CEST. \n About the Programme \nThe EU Business Hub – Japan and the Republic of Korea is an EU-funded programme that supports EU Small and Medium-Sized Enterprises (SMEs) in the green\, digital\, and healthcare sectors to enter the markets of Japan and the Republic of Korea. The programme aims to strengthen EU businesses’ export and investment activities and to foster more resilient\, sustainable\, and technologically advanced value chains with both markets. \nThe programme will organise 10 business missions in Japan and 10 in the Republic of Korea over the next four years\, each business mission allowing a group of 50 innovative EU companies to benefit from extensive business coaching. \nEvent Agenda \nDuring the event\, we will explore the main objectives of the EU Business Hub\, the services offered by the programme\, information on business missions\, the eligibility criteria and the selection process for participating companies. Moreover\, we will share the calendar of the upcoming business missions in Japan and the Republic of Korea and provide information about the programme\, the target sectors and industries for each mission\, as well as the foreseen timeline for the application process. \n Why should you attend this event? \n\nLearn more about the green\, digital and healthcare sectors in Japan and in the Republic of Korea;\nExplore the benefits and business opportunities offered by the EU Business Hub programme;\nLearn how to express your interest for the upcoming business missions and understand the steps for the application process.\n\nIf you are an EU SME or a Start-Up operating in the green\, digital or healthcare sectors and would like to express your interest for the upcoming business missions of the programme\, this event is specifically for you.  Participation is free but registration is required. \nFor more information about the programme\, please visit: https://eubusinesshub.eu/. \n REGISTRATION \nClick HERE and register. \n \n 
URL:https://www.eennl.eu/event/national-event-of-the-eu-business-hub-for-dutch-companies-and-stakeholders-japan-and-the-republic-of-korea-programme/
CATEGORIES:Missie
ATTACH;FMTTYPE=image/jpeg:https://www.eennl.eu/wp-content/uploads/2024/09/EU-Business-Hub.jpg
END:VEVENT
BEGIN:VEVENT
DTSTART;VALUE=DATE:20240816
DTEND;VALUE=DATE:20240817
DTSTAMP:20260423T053040
CREATED:20240703T075354Z
LAST-MODIFIED:20240926T072241Z
UID:6950-1723766400-1723852799@www.eennl.eu
SUMMARY:Semicon Business Mission Japan | Register before August 16
DESCRIPTION:The EU Business Hub invites EU companies active in the semiconductor industry to join the 5-day business mission\, come to Japan\, and exhibit\, as part of the EU pavilion\, at one of the major exhibitions SEMICON Japan held in Tokyo Big Sight. Aside from the exhibition\, there will be networking opportunities\, including a reception\, site visit\, and business matchmaking meetings. \nDate and location:\n9-13 December 2024 \nTokyo Big Sight\, Tokyo\, Japan (SEMICON Japan 2024 Website) \nTarget audience:\nWe are looking for EU-headquartered companies and startups active in the semiconductor industry and existing for 5+ years\, such as: \n\nCompanies selling components to semiconductor device manufacturers (companies manufacturing connectors\, pumps\, cables\, and other parts that are used for machines);\nCompanies selling sensors and electronic components used in semiconductor manufacturing equipment;\nSemiconductor manufacturing equipment manufacturers or inspection equipment manufacturers (without subsidiaries or distributors in Japan);\nCompanies that specialise in metal and machining such as metal processing\, metal cutting\, plating\, and surface treatment;\nUniversity-based startups\, electronics\, and computer software companies.\n\nServices/benefits the EU participants will be receiving:\n\nTailored business matchmaking via pre-arranged in-person meetings;\nMarket intelligence of the target market;\nCultural and linguistic support;\nFinancial support on customised services and hotel accommodation;\nExhibition fee will be covered by the project;\nMax. EUR 1\,000 will be covered by the project for 4 nights of stay from 9 December to 13 December 2024.\nCustomised services\, such as interpretation\, legal advice\, and booth decoration\, will be co-funded by the project (exact menu to be confirmed at a later stage).\n\nApplication period for EU companies:\nUntil 16 August\, 2024 via the website. \nEU Business\nThe EU Business Hub is a programme funded by the European Union in support of EU Small and Medium-sized Enterprises (SMEs) and startups within the green\, digital\, and healthcare sectors that seek business opportunities and establish partnerships in Japan and the Republic of Korea (RoK). \nThe EU Business Hub – Japan and the Republic of Korea aims to boost the presence and visibility of EU companies operating in the green\, digital\, and healthcare sectors where potential for increased cooperation between European and Japanese and European and Korean companies exists. \nThe programme aims to strengthen EU businesses’ internationalisation\, export and investment activities\, as well as foster more resilient\, sustainable\, and technologically advanced value chains with the two Asian markets. Thus\, significantly supporting the implementation of EU-RoK Free Trade Agreement (FTA) and the EU-Japan Economic Partnership Agreement (EPA). \nInformation\nFor more information\, Dutch companies can contact the Dutch Enterprise Europe Network contact point. \nBryan Raghoe \nbryan.raghoe@rvo.nl
URL:https://www.eennl.eu/event/semicon-business-mission-register-before-august-16/
CATEGORIES:Matchmaking,Missie
ATTACH;FMTTYPE=image/jpeg:https://www.eennl.eu/wp-content/uploads/2024/07/mission_digital.jpg
END:VEVENT
BEGIN:VEVENT
DTSTART;TZID=Europe/Paris:20240415T080000
DTEND;TZID=Europe/Paris:20240417T170000
DTSTAMP:20260423T053040
CREATED:20240206T160002Z
LAST-MODIFIED:20240213T152801Z
UID:6713-1713168000-1713373200@www.eennl.eu
SUMMARY:Bedrijfsmissie naar WCEF
DESCRIPTION:Het World Circular Economy Forum (WCEF) is het evenement dat zakelijke leiders\, beleidsmakers en experts samenbrengt om de beste circulaire economieoplossingen ter wereld te presenteren. Dit evenement in Brussel toont de meest impactvolle circulaire oplossingen van over de hele wereld\, geleid door het nieuwste wetenschappelijke bewijs. Het programma is ontworpen om gerichte discussies te vergemakkelijken over beleid\, financiering\, mensen en werkgelegenheid\, en bedrijfs- en innovatie – de belangrijkste bemiddelaars die de implementatie van circulaire oplossingen op de grond stimuleren. \nTijdens de eerste twee dagen\, 15 – 16 april\, vindt het hoofdevenement plaats\, bestaand uit plenaire sessies en parallelle sessies met aanvullende workshops. De dagen erna worden versnellingssessies georganiseerd door WCEF 2024-medewerkers wereldwijd. Tijdens het evenement organiseert EEN matchmaking-sessies op locatie. \nEEN Vlaanderen\, EEN Brussel en EEN Wallonië hebben hun krachten gebundeld om een bedrijfsmissie te organiseren. Ze nodigen vooruitstrevende zakelijke leiders\, adviseurs en beleidsmakers uit alle EEN-landen van harte uit om samen te komen in Brussel voor een interessant programma. \n\n15-16 april\n\nExclusieve toegang tot de WCEF-conferentie (alleen op uitnodiging)\n\n\n17 april\n\nToegang tot het BE Circular Economy Forum: Beyond Experimentation\nDeelname aan de matchmaking-sessie\nBezoeken aan circulaire bedrijven in België\n\n\n\nDeelname aan de bedrijfsmissie is gratis. Dit omvat toegang tot WCEF op 15 en 16 april\, evenals het Belgische evenement op 17 april. Bovendien worden deelnemers uitgenodigd om deel te nemen aan het matchmaking-evenement en de bedrijfsbezoeken. Houd er rekening mee dat kosten met betrekking tot vluchten naar en van Brussel en verblijf niet worden gedekt. \nU kunt zich aanmelden voor de bedrijfsmissie via dit formulier.
URL:https://www.eennl.eu/event/company-mission-to-wcef/
LOCATION:SQUARE convention centre\, Kunstberg\, Brussel\, 1000\, Belgium
CATEGORIES:Missie
ATTACH;FMTTYPE=image/jpeg:https://www.eennl.eu/wp-content/uploads/2024/02/WCEFheader2024-1024x1024-1.jpg
END:VEVENT
BEGIN:VEVENT
DTSTART;VALUE=DATE:20240320
DTEND;VALUE=DATE:20240322
DTSTAMP:20260423T053040
CREATED:20240313T095242Z
LAST-MODIFIED:20240313T095242Z
UID:6782-1710892800-1711065599@www.eennl.eu
SUMMARY:Autonomy Mobility World Expo 2024
DESCRIPTION:Autonomy Mobility World Expo (AMWE) staat bekend als dé toonaangevende jaarlijkse internationale convergentie van bedrijven\, startups\, wereldwijde beleidsmakers\, instellingen en NGO’s\, verenigd in hun toewijding aan duurzame mobiliteitsoplossingen. Een groep bedrijven actief in de e-mobility\, met de focus op fietsbedrijven\, gaat op missie naar deze expo in Parijs\, mede-georganiseerd door de Paris Chamber of Commerce and Industry en ROM Utrecht Region. \nOp de expo is een groot Nederlands Paviljoen waar twaalf bedrijven uit deze sector in Nederland zich presenteren. Dit omvat innovaties zoals ‘last mile solutions’\, ‘fleetmanagement solutions’ en batterijtechnologiën. Daarnaast worden rondleidingen in de vorm van ‘safari tours’ georganiseerd. Hierdoor krijgen de Nederlandse bedrijven een goed overzicht en indruk van alle activiteiten rondom E-mobility in Frankrijk\, met nadruk op de regio Parijs.
URL:https://www.eennl.eu/event/autonomy-mobility-world-expo-2024/
CATEGORIES:Missie
ATTACH;FMTTYPE=image/png:https://www.eennl.eu/wp-content/uploads/2024/03/AMWE24-logo-tagline.png
END:VEVENT
BEGIN:VEVENT
DTSTART;VALUE=DATE:20240312
DTEND;VALUE=DATE:20240316
DTSTAMP:20260423T053040
CREATED:20231031T140218Z
LAST-MODIFIED:20231031T140218Z
UID:6351-1710201600-1710547199@www.eennl.eu
SUMMARY:Digital Cluster/SME Matchmaking Mission to Japan 2024
DESCRIPTION:The Enterprise Europe Network partner\, EU-Japan Centre is currently calling for applications for its next Digital sector Cluster/SME mission to be organised in Japan\, alongside the “Smart Manufacturing Summit 2024”\n\n· Mission dates: 12-15 March 2024\n· Application deadline: 24 November 2023\n· It is a physical mission in Japan\n\nTargets:\nThe programme targets EU SMEs and clusters in digital technologies (i.e. technologies encompassing digital devices\, systems\, and resources that help create\, store\, and process data) interested in doing business with Japan\, in particular with applications in smart manufacturing and smart mobility.\n\nCosts and grant:\nThe EU-Japan Centre covers all costs directly related to the mission: the trade fair participation fee\, partnering activities\, interpreters…\nThe participating company is expected to cover travel\, accommodation and living expenses.\nSelected participants will also benefit from a 600 euro grant to partially support above mentioned costs. \nProgramme’s objectives:\n– promote your technology at one of Japan’s leading fair events\n– meet potential business partners\n– create new business opportunities\n– develop partnerships and business cooperation in global markets \nFor more information about the mission and to apply\, please visit the website of EU-Japan Centre.
URL:https://www.eennl.eu/event/digital-cluster-sme-matchmaking-mission-to-japan-2024/
CATEGORIES:Missie
ATTACH;FMTTYPE=image/png:https://www.eennl.eu/wp-content/uploads/2022/09/Japan.png
END:VEVENT
BEGIN:VEVENT
DTSTART;VALUE=DATE:20231114
DTEND;VALUE=DATE:20231116
DTSTAMP:20260423T053040
CREATED:20230831T064947Z
LAST-MODIFIED:20230904T070204Z
UID:6149-1699920000-1700092799@www.eennl.eu
SUMMARY:Economische missie groene waterstof naar Duitsland (Noordrijn-Westfalen) met staatsecretaris Vijlbrief (EZK)
DESCRIPTION:Is uw bedrijf internationaal actief in groene waterstof? En bent u benieuwd naar uw zakelijke kansen in Duitsland? Neem dan op 14 en 15 november 2023 deel aan de economische missie naar Duitsland. De missie staat onder leiding van staatssecretaris van Economische Zaken en Klimaat\, Hans Vijlbrief. Zakelijk missieleider is Theo Henrar\, voorzitter van FME. Ook plaatsvervangend directeur-generaal Buitenlandse Economische Betrekkingen\, Yvette van Eechoud\, reist mee. \nKoning Willem-Alexander bij enkele programmaonderdelen\nDeze missie loopt parallel aan het werkbezoek van Zijne Majesteit Koning Willem-Alexander op 14 november aan Noordrijn-Westfalen. Zijn werkbezoek staat in het teken van verschillende waterstofprojecten. Zijne Majesteit de Koning zal aanwezig zijn bij enkele programmaonderdelen van de missie. \nMarktkansen in Duitsland voor groene waterstof\nNederland en Duitsland werken samen aan een grensoverschrijdende groene waterstofketen. De buurlanden bouwen samen aan capaciteit voor productie en invoer\, infrastructuur en extra kennis van groene waterstof. \nDit is nodig door de grote vraag naar groene waterstof van de industrie in NRW (en in de rest van Duitsland). Dit alles biedt kansen voor Nederlandse bedrijven en kennisinstellingen. \nNederland wil 3 tot 4GW aan groene waterstof maken in 2030\, en Duitsland 10 GW. De buurlanden staan dus voor dezelfde uitdagingen\, namelijk: \n\nhoge kosten voor technologie;\nhet gebruik van zeldzame materialen;\n(op)schaalbaarheid.\n\nDuitsland heeft behoefte aan innovatieve oplossingen voor: \n\nmateriaalgebruik;\ncomponentontwerp;\nsysteemintegratie;\nautomatisering;\nproductie;\ntoepassingen van groene waterstof.\n\nWaarom deelnemen?\nTijdens de missie kunnen Nederlandse bedrijven en kennisinstituten: \n\nkennismaken met de Duitse markt;\nhun marktkansen onderzoeken;\nin contact komen met mogelijke Duitse zakenpartners\, opdrachtgevers en/of Duitse overheden;\nal bestaande contacten in Duitsland versterken.\n\nDoor de aanwezigheid van de bewindspersoon en zakelijk missieleider heeft u de kans om op hoog niveau contacten te leggen en uit te bouwen. Ook kunt u in hun bijzijn bijvoorbeeld contracten\, een intentieverklaring of Memorandum of Understanding (MoU) ondertekenen. Dat geeft extra zichtbaarheid aan uw project of investering. \nDeelname en kosten\nDeelname kost € 950 per organisatie (maximaal 1 deelnemer per organisatie). \nBij deze kosten zijn inbegrepen: deelname aan collectieve programmaonderdelen\, individuele matchmaking\, lokale ondersteuning door de organisatie en lokaal vervoer (gekoppeld aan het missieprogramma). \nReis- en verblijfkosten en persoonlijke transfers zijn voor eigen rekening en risico. Na de aanmeldtermijn ontvangt u suggesties voor uw reis en verblijf. \nAanmelden\nMeld u aan voor deelname. Dat kan tot en met 18 september 2023. Na deze datum kan matchmaking niet meer gegarandeerd worden. \nDeelname aan deze missie staat uitsluitend open voor Nederlandse bedrijven en kennisinstellingen die passen binnen de hierboven genoemde opzet en inhoudelijke focus van deze handelsmissie. Aanmelding en de automatische ontvangstbevestiging betekenen daarom nog niet dat u deelneemt aan deze handelsmissie. \nU ontvangt een definitieve bevestiging van uw deelname na sluiting van de aanmeldperiode.
URL:https://www.eennl.eu/event/economische-missie-groene-waterstof-naar-duitsland-noordrijn-westfalen-met-staatsecretaris-vijlbrief-ezk/
CATEGORIES:Matchmaking,Missie
ATTACH;FMTTYPE=image/png:https://www.eennl.eu/wp-content/uploads/2023/08/alternatief-waterstof-Duitsland-.png
END:VEVENT
BEGIN:VEVENT
DTSTART;VALUE=DATE:20231106
DTEND;VALUE=DATE:20231111
DTSTAMP:20260423T053040
CREATED:20231023T121446Z
LAST-MODIFIED:20231023T124318Z
UID:6304-1699228800-1699660799@www.eennl.eu
SUMMARY:EEN AquaMatch inkomende missie – Frankrijk\, Regio Marseille (6-10 november)
DESCRIPTION:EEN NL-partners\, Rijksdienst voor Ondernemend Nederland en WaterAlliance organiseren in week 6-10 november een inkomende watermissie uit de regio Marseille.  Een 9-tal Franse bedrijven zullen in deze week afreizen naar Nederland om de Aquatech Amsterdam en/of de Europort Rotterdam te bezoeken. \nHet doel van de missie is om nieuwe verbindingen met de Nederlandse Watersector tot stand te brengen voor zakelijke en technologische samenwerkingen voor een duurzame\, circulaire en hoogwaardige watercyclus. \nDe deelnemers zijn op zoek naar Nederlandse bedrijven en organisaties om kennis mee te maken en afspraken in te plannen. \nHieronder vindt u een overzicht van de deelnemers: \n\n XPERT\n AZUVIA\n MMPI PROCESS\n NOMADO\n GREENCITYZEN\n CRYOFILTRATION\n AQUAPROCESS\n ECT (Eaux Collectives & Traitements)\n AQUA-MODULE \n\nEEN AquaMatch Catalogue French participants \nBent u geïnteresseerd in samenwerking met een Franse partij en wilt u 1 van deze deelnemers ontmoeten? \nStuur dan een e-mail naar: \n\n– Janine Kaya\, Rijksdienst voor Ondernemend Nederland\, aquamatch@rvo.nl\n– Rixt Sinnema\, WaterAlliance\, r.sinnema@wateralliance.nl\n\nWij nemen dan graag contact met u op om een afspraak te organiseren. \n\nAquatech Amsterdam: www.aquatechtrade.com/amsterdam\nAmsterdam Internationale Waterweek: https://www.amsterdamiww.com/\nEuroport Rotterdam: https://www.europort.nl/\nMariMatch @Europort Rotterdam: https://marimatch-europort-2023.b2match.io/
URL:https://www.eennl.eu/event/een-aquamatch-inkomende-missie-frankrijk-regio-marseille-6-10-november/
CATEGORIES:Matchmaking,Missie
ATTACH;FMTTYPE=image/jpeg:https://www.eennl.eu/wp-content/uploads/2023/10/Banner-AquaMatch.jpg
END:VEVENT
BEGIN:VEVENT
DTSTART;VALUE=DATE:20230918
DTEND;VALUE=DATE:20230922
DTSTAMP:20260423T053040
CREATED:20230801T084949Z
LAST-MODIFIED:20230801T084949Z
UID:6088-1694995200-1695340799@www.eennl.eu
SUMMARY:Handelsmissie naar Litouwen en Polen van 18-20 september 2023
DESCRIPTION:Bent u actief in offshore windenergie en wilt u uw activiteiten in de Baltische Zee verder ontwikkelen? Aarzel dan niet en neem nu deel aan de missie naar Litouwen (Klaipeda) en Polen (Gdańsk). \nOm de kansen voor de Nederlandse windsector verder te verkennen en zakelijke relaties aan te gaan en te intensiveren\, organiseren de Ambassade in Litouwen\, PIB cluster Linkedbyoffshorewind en NWEA een 2-in-1 factfinding handelsmissie naar Polen en Litouwen. \nAgenda: \nMa-Di 18 en 19 september Litouwen:\nDeelname aan de Nederlandse Offshore Windenergie Conferentie in Klaipeda \nWo-Do 20 en 21 september Polen:\nDeelname aan het PTMEW seminar in Gdańsk inclusief diner op 20 september. \nZowel in Litouwen als Polen wordt individuele matchmaking met Poolse en Litouwse counterparts aangeboden. \nRegistreren via: https://trade-mission-offshore-wind-2023.b2match.io. \n 
URL:https://www.eennl.eu/event/handelsmissie-naar-litouwen-en-polen-van-18-20-september-2023/
CATEGORIES:Matchmaking,Missie
ATTACH;FMTTYPE=image/jpeg:https://www.eennl.eu/wp-content/uploads/2023/08/missie-Polen-en-Litouwen.jpg
END:VEVENT
BEGIN:VEVENT
DTSTART;VALUE=DATE:20221129
DTEND;VALUE=DATE:20221203
DTSTAMP:20260423T053040
CREATED:20220909T095041Z
LAST-MODIFIED:20220909T095155Z
UID:5406-1669680000-1670025599@www.eennl.eu
SUMMARY:Digital mission in Japan
DESCRIPTION:De Japanse EEN partner\, EU-Japan Center verzoekt potentiële organisaties uit het MKB om zich aan te melden voor de Cluster/SME-missie voor de digitale sector in Japan. De missie wordt georganiseerd\, op 29 november – 2 december 2022\, samen met de Innovation Leaders’ Summit (https://ils.tokyo) \n\nMissiedata: 29 nov. – 2 dec. 2022\nDeadline voor aanmelding: 18 september 2022\nHet is een fysieke missie\n\nFocus \nHet programma is gericht op het MKB en clusters in de EU die geïnteresseerd zijn om zaken te doen met Japan en die gespecialiseerd zijn in digitale technologieën: (d.w.z. technologieën die digitale apparaten\, systemen en middelen omvatten die helpen bij het creëren\, opslaan en verwerken van gegevens). \nKosten \nHet EU-Japan Centre dekt alle kosten die rechtstreeks verband houden met de missie: deelname aan de top\, partneractiviteiten\, tolken. De reis- en verblijf kosten zijn voor eigen rekening. \nDoelstellingen van het programma \n\npromoot uw technologie op een van de toonaangevende open innovatie-evenementen in Japan\npotentiële zakenpartners ontmoeten\nnieuwe zakelijke kansen creëren\npartnerschappen en zakelijke samenwerking op wereldwijde markten ontwikkelen\n\nVoor meer informatie over de missie en om aan te melden bezoek de volgende website: https://www.eu-japan.eu/events/digital-cluster-sme-mission
URL:https://www.eennl.eu/event/digital-mission-in-japan/
LOCATION:Japan\, Japan
CATEGORIES:Missie
ATTACH;FMTTYPE=image/png:https://www.eennl.eu/wp-content/uploads/2022/09/Japan.png
END:VEVENT
END:VCALENDAR