BEGIN:VCALENDAR
VERSION:2.0
PRODID:-//Enterprise Europe Network - Nederland - ECPv6.15.20//NONSGML v1.0//EN
CALSCALE:GREGORIAN
METHOD:PUBLISH
X-WR-CALNAME:Enterprise Europe Network - Nederland
X-ORIGINAL-URL:https://www.eennl.eu
X-WR-CALDESC:Events for Enterprise Europe Network - Nederland
REFRESH-INTERVAL;VALUE=DURATION:PT1H
X-Robots-Tag:noindex
X-PUBLISHED-TTL:PT1H
BEGIN:VTIMEZONE
TZID:Europe/Paris
BEGIN:DAYLIGHT
TZOFFSETFROM:+0100
TZOFFSETTO:+0200
TZNAME:CEST
DTSTART:20240331T010000
END:DAYLIGHT
BEGIN:STANDARD
TZOFFSETFROM:+0200
TZOFFSETTO:+0100
TZNAME:CET
DTSTART:20241027T010000
END:STANDARD
BEGIN:DAYLIGHT
TZOFFSETFROM:+0100
TZOFFSETTO:+0200
TZNAME:CEST
DTSTART:20250330T010000
END:DAYLIGHT
BEGIN:STANDARD
TZOFFSETFROM:+0200
TZOFFSETTO:+0100
TZNAME:CET
DTSTART:20251026T010000
END:STANDARD
BEGIN:DAYLIGHT
TZOFFSETFROM:+0100
TZOFFSETTO:+0200
TZNAME:CEST
DTSTART:20260329T010000
END:DAYLIGHT
BEGIN:STANDARD
TZOFFSETFROM:+0200
TZOFFSETTO:+0100
TZNAME:CET
DTSTART:20261025T010000
END:STANDARD
END:VTIMEZONE
BEGIN:VEVENT
DTSTART;TZID=Europe/Paris:20251027T080000
DTEND;TZID=Europe/Paris:20251028T170000
DTSTAMP:20260419T154205
CREATED:20250924T143151Z
LAST-MODIFIED:20251006T120522Z
UID:8063-1761552000-1761670800@www.eennl.eu
SUMMARY:The International Matchmaking Event - European SME Congress 2025
DESCRIPTION:Welkom bij het Internationaal Matchmaking-Evenement 2025 binnen het European SME Congress 2025: Here and Now!\n1-op-1 ontmoetingen\, zowel op locatie als online\, bieden je de kans om nieuwe zakelijke contacten te leggen en mogelijkheden te creëren voor toekomstige contracten. Partners van het Enterprise Europe Network uit de regio Opper-Silezië (Polen) nodigen je uit om deel te nemen aan de volgende editie van het International Matchmaking-Evenement. Dit vindt plaats op 27 en 28 oktober 2025\, gelijktijdig met het 15e European Congress of Small and Medium Enterprises. \nVoor wie?\n\nMKB-bedrijven en multinationals\nInstitutionele en private inkopers\nOnderzoekscentra en laboratoria\nInvesteerders\n\nNaast de B2B-bijeenkomsten kun je deelnemen aan panels tijdens het congres. Het thema van dit jaar is een oproep tot actie: belangrijke keuzes omtrent innovatie en aanpassing in een dynamische wereld – hier en nu. Het programma bevat tientallen paneldiscussies\, debatten\, workshops en diverse netwerkevenementen\, verdeeld over 10 thematische tracks: \n\nActuele uitdagingen\, trends en ontwikkelingen binnen het MKB\nBuitenlandse expansie\, internationalisering en samenwerking\nImplementatie van artificiële intelligentie\, digitale transformatie\, cybersecurity\nTechnologie-trends\, startups en innovaties\nHR\, talentmanagement en leiderschap\nESG\, energie\, organisatorische wendbaarheid en nieuwe managementmodellen in onzekere tijden\nSlimme steden\, duurzame ontwikkeling en stedelijke technologieën\nWetgeving en belastingen\nFinanciering van MKB\, toegang tot kapitaal\, investeringen\nMarketingstrategieën\, digitale marketing en verkoopontwikkeling\n\nDeelname is kosteloos en niet gebonden aan specifieke sectoren.We hopen je te mogen verwelkomen bij het International Matchmaking-Evenement 2025 binnen het European SME Congress 2025! \nAanmelden\nMeer informatie over het congres kan je hier vinden. \nAanmelden om mee te doen aan de matchmaking kan via b2match.
URL:https://www.eennl.eu/event/the-international-matchmaking-event-european-sme-congress-2025/
CATEGORIES:Matchmaking
ATTACH;FMTTYPE=image/jpeg:https://www.eennl.eu/wp-content/uploads/2025/09/2025-International-matchmaking-event.jpg
END:VEVENT
END:VCALENDAR