BEGIN:VCALENDAR
VERSION:2.0
PRODID:-//Enterprise Europe Network - Nederland - ECPv6.15.20//NONSGML v1.0//EN
CALSCALE:GREGORIAN
METHOD:PUBLISH
X-WR-CALNAME:Enterprise Europe Network - Nederland
X-ORIGINAL-URL:https://www.eennl.eu
X-WR-CALDESC:Events for Enterprise Europe Network - Nederland
REFRESH-INTERVAL;VALUE=DURATION:PT1H
X-Robots-Tag:noindex
X-PUBLISHED-TTL:PT1H
BEGIN:VTIMEZONE
TZID:Europe/Paris
BEGIN:DAYLIGHT
TZOFFSETFROM:+0100
TZOFFSETTO:+0200
TZNAME:CEST
DTSTART:20230326T010000
END:DAYLIGHT
BEGIN:STANDARD
TZOFFSETFROM:+0200
TZOFFSETTO:+0100
TZNAME:CET
DTSTART:20231029T010000
END:STANDARD
BEGIN:DAYLIGHT
TZOFFSETFROM:+0100
TZOFFSETTO:+0200
TZNAME:CEST
DTSTART:20240331T010000
END:DAYLIGHT
BEGIN:STANDARD
TZOFFSETFROM:+0200
TZOFFSETTO:+0100
TZNAME:CET
DTSTART:20241027T010000
END:STANDARD
BEGIN:DAYLIGHT
TZOFFSETFROM:+0100
TZOFFSETTO:+0200
TZNAME:CEST
DTSTART:20250330T010000
END:DAYLIGHT
BEGIN:STANDARD
TZOFFSETFROM:+0200
TZOFFSETTO:+0100
TZNAME:CET
DTSTART:20251026T010000
END:STANDARD
END:VTIMEZONE
BEGIN:VEVENT
DTSTART;TZID=Europe/Paris:20240625T080000
DTEND;TZID=Europe/Paris:20240625T170000
DTSTAMP:20260423T055233
CREATED:20240514T142127Z
LAST-MODIFIED:20240514T142127Z
UID:6886-1719302400-1719334800@www.eennl.eu
SUMMARY:Health Innovation Euregion
DESCRIPTION:Onder het mom van ‘leren van elkaar door ervaringen te delen’ wordt een bonte mix van mensen bij elkaar gebracht: startende én ervaren ondernemers\, ambitieuze wetenschappers met al dan niet concrete valorisatieplannen\, relevante instanties en partijen\, investeerders en andere ‘hulptroepen’. \nIn 2024 organiseren Medtronic\, Medace\, LifetecZONe\, de gemeente Maastricht\, LIOF\, Brightlands en Rabobank de tweede editie van het Health Innovation Euregion Event voor iedereen die innovatie in de gezondheidszorg en levenswetenschappen ondersteunt. Uit ervaring weten we dat het veel beter en gemakkelijker is om veelbelovende ideeën en ambitieuze doelen te realiseren als je er samen aan werkt. En als je in contact komt met de juiste mensen en groepen\, als je weet wie je voor wat moet benaderen en als je de beste routes kent voor de paden die bij jou passen. Daarom organiseren we Health Innovation Euregion 2024\, waarin we beginnende en meer gevestigde ondernemers en wetenschappers in contact brengen met relevante autoriteiten en organisaties\, met investeerders\, en met ervaren ondernemers en andere partijen die kunnen helpen. Zodat ze elkaar kunnen ontmoeten\, samenwerken\, goede en slechte ervaringen kunnen delen\, van en met elkaar kunnen leren\, en meer. Voor meer informatie zie de website van Brightlands. \nOntmoet doelgericht andere deelnemers door je aan te melden voor de Matchmaking tijdens het evenement. Via het online platform kan je van tevoren kijken wie er aanwezig zal zijn en kan je afspraken van 20 minuten inplannen. Tijdens het evenement krijg je een tafel in een aparte ruimte toegewezen zodat je rustig met elkaar kan spreken. \nWat kan je uit dit evenement halen? \n\nPubliceer en toon uw producten\, projecten\, diensten of zakelijke behoeften aan de deelnemers van het evenement.\nInitiëer en regel veelbelovende vooraf geplande 1-op-1 ontmoetingen tijdens het evenement.\nGenereer nieuwe leads en ontmoet nieuwe contacten op een tijd- en kostenefficiënte manier.\n\nBlijf uw concurrenten een stap voor door gezien en zichtbaar aanwezig te zijn op het evenement. We hopen u te ontmoeten bij de B2B-matchmaking tijdens de Health Innovation Euregion 2024!
URL:https://www.eennl.eu/event/health-innovation-euregion/
LOCATION:MECC Maastricht\, Forum 100\, Maastricht\, 6229 GV\, Netherlands
CATEGORIES:Matchmaking
ATTACH;FMTTYPE=image/png:https://www.eennl.eu/wp-content/uploads/2024/05/8347034435-cae90b1d95.png
END:VEVENT
END:VCALENDAR