BEGIN:VCALENDAR
VERSION:2.0
PRODID:-//Enterprise Europe Network - Nederland - ECPv6.15.20//NONSGML v1.0//EN
CALSCALE:GREGORIAN
METHOD:PUBLISH
X-WR-CALNAME:Enterprise Europe Network - Nederland
X-ORIGINAL-URL:https://www.eennl.eu
X-WR-CALDESC:Events for Enterprise Europe Network - Nederland
REFRESH-INTERVAL;VALUE=DURATION:PT1H
X-Robots-Tag:noindex
X-PUBLISHED-TTL:PT1H
BEGIN:VTIMEZONE
TZID:Europe/Paris
BEGIN:DAYLIGHT
TZOFFSETFROM:+0100
TZOFFSETTO:+0200
TZNAME:CEST
DTSTART:20230326T010000
END:DAYLIGHT
BEGIN:STANDARD
TZOFFSETFROM:+0200
TZOFFSETTO:+0100
TZNAME:CET
DTSTART:20231029T010000
END:STANDARD
BEGIN:DAYLIGHT
TZOFFSETFROM:+0100
TZOFFSETTO:+0200
TZNAME:CEST
DTSTART:20240331T010000
END:DAYLIGHT
BEGIN:STANDARD
TZOFFSETFROM:+0200
TZOFFSETTO:+0100
TZNAME:CET
DTSTART:20241027T010000
END:STANDARD
BEGIN:DAYLIGHT
TZOFFSETFROM:+0100
TZOFFSETTO:+0200
TZNAME:CEST
DTSTART:20250330T010000
END:DAYLIGHT
BEGIN:STANDARD
TZOFFSETFROM:+0200
TZOFFSETTO:+0100
TZNAME:CET
DTSTART:20251026T010000
END:STANDARD
END:VTIMEZONE
BEGIN:VEVENT
DTSTART;VALUE=DATE:20240312
DTEND;VALUE=DATE:20240315
DTSTAMP:20260420T130824
CREATED:20240220T142916Z
LAST-MODIFIED:20240220T142916Z
UID:6751-1710201600-1710460799@www.eennl.eu
SUMMARY:EnergyWeek 2024 Matchmaking
DESCRIPTION:De jaarlijkse Vaasa EnergyWeek is het grootste energiecluster-evenement in de Noordse landen\, met de nadruk op duurzame energie\, slimme energie\, gasenergie en energieopslag. Interessante onderwerpen zijn digitalisering\, batterijen en opslag\, circulaire economie\, toekomstige slimme steden\, energieregulering\, bedrijfsleven en innovatie. \nEnterprise Europe Network organiseert een gratis onsite B2B-matchmakingevenement tijdens de EnergyWeek. De matchmaking verwelkomt bedrijven en experts uit alle sectoren van de energiesector. \nRegistreer en boek vergaderingen met andere deelnemers! Voorgeplande vergaderingen van 20 minuten zijn perfect om eerste indrukken te krijgen en nieuwe contacten te leggen! De persoonlijke face-to-face ontmoetingen vinden plaats op de 4e verdieping van het stadhuis van Vaasa. \nWaarom deelnemen aan de matchmaking?\n\nEen kans om te praten met potentiële zakelijke/technologische/onderzoekspartners tijdens onsite voorgeplande vergaderingen.\nDe organisatoren bieden u ondersteuning voor\, tijdens en na het evenement.\nDeelname is gratis\, registratie is verplicht.\n\nRegistratie\nDeelname aan de matchmaking is gratis\, maar vereist vooraf registratie. Let op dat de matchmaking slechts een van de vele evenementen tijdens EnergyWeek 2024 is\, en je moet je apart registreren voor andere evenementen. \nRegistreer je eerst hier voor de EnergyWeek evenementen. \nRegistreer je daarna voor de matchmaking via deze website.
URL:https://www.eennl.eu/event/energyweek-2024-matchmaking/
CATEGORIES:Matchmaking
ATTACH;FMTTYPE=image/jpeg:https://www.eennl.eu/wp-content/uploads/2024/02/KKWdFWajvc8ZKsMw6ppsHMmn.jpg
END:VEVENT
END:VCALENDAR