BEGIN:VCALENDAR
VERSION:2.0
PRODID:-//Enterprise Europe Network - Nederland - ECPv6.15.20//NONSGML v1.0//EN
CALSCALE:GREGORIAN
METHOD:PUBLISH
X-WR-CALNAME:Enterprise Europe Network - Nederland
X-ORIGINAL-URL:https://www.eennl.eu
X-WR-CALDESC:Events for Enterprise Europe Network - Nederland
REFRESH-INTERVAL;VALUE=DURATION:PT1H
X-Robots-Tag:noindex
X-PUBLISHED-TTL:PT1H
BEGIN:VTIMEZONE
TZID:Europe/Paris
BEGIN:DAYLIGHT
TZOFFSETFROM:+0100
TZOFFSETTO:+0200
TZNAME:CEST
DTSTART:20240331T010000
END:DAYLIGHT
BEGIN:STANDARD
TZOFFSETFROM:+0200
TZOFFSETTO:+0100
TZNAME:CET
DTSTART:20241027T010000
END:STANDARD
BEGIN:DAYLIGHT
TZOFFSETFROM:+0100
TZOFFSETTO:+0200
TZNAME:CEST
DTSTART:20250330T010000
END:DAYLIGHT
BEGIN:STANDARD
TZOFFSETFROM:+0200
TZOFFSETTO:+0100
TZNAME:CET
DTSTART:20251026T010000
END:STANDARD
BEGIN:DAYLIGHT
TZOFFSETFROM:+0100
TZOFFSETTO:+0200
TZNAME:CEST
DTSTART:20260329T010000
END:DAYLIGHT
BEGIN:STANDARD
TZOFFSETFROM:+0200
TZOFFSETTO:+0100
TZNAME:CET
DTSTART:20261025T010000
END:STANDARD
END:VTIMEZONE
BEGIN:VEVENT
DTSTART;VALUE=DATE:20250505
DTEND;VALUE=DATE:20250507
DTSTAMP:20260420T103614
CREATED:20250325T155158Z
LAST-MODIFIED:20250325T155158Z
UID:7664-1746403200-1746575999@www.eennl.eu
SUMMARY:CLUSTER Health Horizon Europe Brokerage Event 2025
DESCRIPTION:Join the Horizon Europe Cluster 1 Health Brokerage Event — May 5-6\, 2025! \nAre you planning to prepare a proposal for the upcoming Horizon Europe Cluster 1 Health calls for 2025? Don’t miss the opportunity to build your consortium and connect with the right partners at the online Brokerage Event taking place on May 5-6\, 2025. \nThis event is designed to help potential applicants network and prepare well in advance of the Cluster 1 Health Info Day. Participants will have the chance to: \n✅ Engage in online bilateral meetings with partners interested in the same 2025 Health call topics. \n✅ Showcase their ideas and expertise in pitching sessions during the May 5th morning program. \n✅ Access a user-friendly matchmaking tool to pre-arrange meetings after completing registration and submitting a high-quality cooperation profile. \nRegistration is open until April 30\, 2025! \n🗓️ Mark your calendar! \n📌 7 April – 6 May – Time for online scheduling of bilateral meetings \n📌 21 April – Deadline to submit your pitch presentation (PPT) \n📌 30 April – Deadline for registration and Publication of selected pitches by organizers \n📌 6 May\, 18:30 CET – Final B2B meeting schedules released to participants \n👨‍💼 Pitch Session \n📅 5 May: 10:00–12:00 CET \n🤝 B2B Meetings: \n📅 5 May: 13:00–19:00 CET \n📅 6 May: 10:00–19:00 CET \nThe Horizon Europe CL1 National Contact Points organize the event through the HNN3.0 initiative. \n👉 Don’t miss this opportunity to find partners\, collaborate\, and strengthen your proposal! \nRegister now and start building your network for success.
URL:https://www.eennl.eu/event/cluster-health-horizon-europe-brokerage-event-2025/
CATEGORIES:Informatie sessie,Matchmaking
ATTACH;FMTTYPE=image/webp:https://www.eennl.eu/wp-content/uploads/2025/03/Afbeelding1.webp
END:VEVENT
END:VCALENDAR