BEGIN:VCALENDAR
VERSION:2.0
PRODID:-//Enterprise Europe Network - Nederland - ECPv6.15.20//NONSGML v1.0//EN
CALSCALE:GREGORIAN
METHOD:PUBLISH
X-WR-CALNAME:Enterprise Europe Network - Nederland
X-ORIGINAL-URL:https://www.eennl.eu
X-WR-CALDESC:Events for Enterprise Europe Network - Nederland
REFRESH-INTERVAL;VALUE=DURATION:PT1H
X-Robots-Tag:noindex
X-PUBLISHED-TTL:PT1H
BEGIN:VTIMEZONE
TZID:Europe/Helsinki
BEGIN:DAYLIGHT
TZOFFSETFROM:+0200
TZOFFSETTO:+0300
TZNAME:EEST
DTSTART:20210328T010000
END:DAYLIGHT
BEGIN:STANDARD
TZOFFSETFROM:+0300
TZOFFSETTO:+0200
TZNAME:EET
DTSTART:20211031T010000
END:STANDARD
BEGIN:DAYLIGHT
TZOFFSETFROM:+0200
TZOFFSETTO:+0300
TZNAME:EEST
DTSTART:20220327T010000
END:DAYLIGHT
BEGIN:STANDARD
TZOFFSETFROM:+0300
TZOFFSETTO:+0200
TZNAME:EET
DTSTART:20221030T010000
END:STANDARD
BEGIN:DAYLIGHT
TZOFFSETFROM:+0200
TZOFFSETTO:+0300
TZNAME:EEST
DTSTART:20230326T010000
END:DAYLIGHT
BEGIN:STANDARD
TZOFFSETFROM:+0300
TZOFFSETTO:+0200
TZNAME:EET
DTSTART:20231029T010000
END:STANDARD
END:VTIMEZONE
BEGIN:VEVENT
DTSTART;VALUE=DATE:20221117
DTEND;VALUE=DATE:20221119
DTSTAMP:20260425T200512
CREATED:20220919T125008Z
LAST-MODIFIED:20220919T125008Z
UID:5429-1668643200-1668815999@www.eennl.eu
SUMMARY:Brokerage Event @Smart Manufacturing Matchmaking 2022
DESCRIPTION:An opportunity to meet companies\, research centers and public administrations working in Smart Manufacturing and Industry 4.0 \nOrganized by SPIN – Business  Innovation Support\, partner of EEN Italy\n\nData and its management are changing our lives. Industry 4.0 is revolutionizing and revitalizing all industrial activities. Companies are facing new challenges but also seizing the opportunities offered by the fourth industrial revolution. \nBrokerage Event@Smart Manufacturing Matchmaking 2022 provides a unique opportunity to meet companies\, research centers and public administrations working in Smart Manufacturing and Industry 4.0. It is also an important opportunity to stay up to date on the latest corresponding advanced technologies\, the demand for innovation from institutions and cities\, new applications from SMEs and technical challenges faced by large companies. \nThe BE@SMM2022 will be organized as a virtual matchmaking event\, this means that all 1:1 meeting will be held online through this website. You do not need any additional software\, only an up-to-date web browser\, a microphone and a webcam. \nBE@SMM 2022 Main Topics\n\nAdvanced manufacturing solution: automatic material handling systems\, cobots\nAdditive manufacturing\nAgriculture 4.0\nAI and machine learning for industrial applications\nApplications for social media data management\nApplications of Virtual / augmented / mixed reality in industry\nAutonomous production\nAutonomous robot\nBig Data Analysis\nCyber-Physical Systems\nCybersecurity\nCloud technologies\nDigital Twin\nEnvironmental sustainability\nHuman machine interfaces\nHorizontal and vertical integration\nIndustrial Internet of Things\nOpen data and public innovation\nPredictive maintenance\nSimulation between interconnected machines\nSystem integration\nSustainable industry 4.0\n\nThe brokerage event is part of Smart Manufacturing Matchmaking 2022
URL:https://www.eennl.eu/event/brokerage-event-smart-manufacturing-matchmaking-2022/
LOCATION:Online
ATTACH;FMTTYPE=image/png:https://www.eennl.eu/wp-content/uploads/2022/09/Schermafbeelding-2022-09-19-om-13.48.43.png
END:VEVENT
END:VCALENDAR